BEGIN:VCALENDAR
VERSION:2.0
PRODID:-//Rosny-sous-Bois
 //NONSGML Events //EN
CALSCALE:GREGORIAN
X-WR-CALNAME:Rosny-sous-Bois
BEGIN:VEVENT
UID:26249762
DTEND;VALUE=DATE:20210611
DTSTART;VALUE=DATE:20210611
DTSTAMP:20260422T164905Z
LOCATION:
DESCRIPTION:À partir d’archives complétement inédites, Vincent Courtois accom
SUMMARY:Le petit ciné-concert de Vincent Courtois à l&rsquo\;Osteria
URL;VALUE=URI:https://www.rosnysousbois.fr/evenements/le-petit-cine-concert-de-vincent-courtois-osteria/
TRANSP:OPAQUE
BEGIN:VALARM
ACTION:DISPLAY
DESCRIPTION:Reminder for Le petit ciné-concert de Vincent Courtois à l&rsquo\;Osteria
END:VALARM
END:VEVENT
END:VCALENDAR
