BEGIN:VCALENDAR
VERSION:2.0
PRODID:-//Rosny-sous-Bois
 //NONSGML Events //EN
CALSCALE:GREGORIAN
X-WR-CALNAME:Rosny-sous-Bois
BEGIN:VEVENT
UID:28121942
DTEND;VALUE=DATE:20260613
DTSTART;VALUE=DATE:20260613
DTSTAMP:20260424T161806Z
LOCATION:Hôtel de ville
DESCRIPTION:Les professionnel·les de la petite enfance présentent les modes de g
SUMMARY:Forum sur les modes de garde individuels
URL;VALUE=URI:https://www.rosnysousbois.fr/evenements/forum-des-modes-de-garde-individuels/
TRANSP:OPAQUE
BEGIN:VALARM
ACTION:DISPLAY
DESCRIPTION:Reminder for Forum sur les modes de garde individuels
END:VALARM
END:VEVENT
END:VCALENDAR
