BEGIN:VCALENDAR
VERSION:2.0
PRODID:-//Rosny-sous-Bois
 //NONSGML Events //EN
CALSCALE:GREGORIAN
X-WR-CALNAME:Rosny-sous-Bois
BEGIN:VEVENT
UID:28735245
DTEND;VALUE=DATE:20221207
DTSTART;VALUE=DATE:20221207
DTSTAMP:20260421T094424Z
LOCATION:Fabrique Artistique et Numérique
DESCRIPTION:Raconte des histoires (super)héroïques en dessinant et construisant 
SUMMARY:Atelier créatif enfants | Super Light Box Heroes 1/2
URL;VALUE=URI:https://www.rosnysousbois.fr/evenements/super-light-box-heroes-decembre1-2/
TRANSP:OPAQUE
BEGIN:VALARM
ACTION:DISPLAY
DESCRIPTION:Reminder for Atelier créatif enfants | Super Light Box Heroes 1/2
END:VALARM
END:VEVENT
END:VCALENDAR
