BEGIN:VCALENDAR
VERSION:2.0
PRODID:-//Rosny-sous-Bois
 //NONSGML Events //EN
CALSCALE:GREGORIAN
X-WR-CALNAME:Rosny-sous-Bois
BEGIN:VEVENT
UID:29608370
DTEND;VALUE=DATE:20230114
DTSTART;VALUE=DATE:20230114
DTSTAMP:20260422T172020Z
LOCATION:Médiathèque Louis Aragon
DESCRIPTION:<strong>"Touch, heel, stand, step", le bonheur en claquette ! | Démon
SUMMARY:Le bonheur en claquettes ! &#8211\; Démonstration
URL;VALUE=URI:https://www.rosnysousbois.fr/evenements/le-bonheur-en-claquettes-demonstration/
TRANSP:OPAQUE
BEGIN:VALARM
ACTION:DISPLAY
DESCRIPTION:Reminder for Le bonheur en claquettes ! &#8211\; Démonstration
END:VALARM
END:VEVENT
END:VCALENDAR
