BEGIN:VCALENDAR
VERSION:2.0
PRODID:-//Rosny-sous-Bois
 //NONSGML Events //EN
CALSCALE:GREGORIAN
X-WR-CALNAME:Rosny-sous-Bois
BEGIN:VEVENT
UID:29608480
DTEND;VALUE=DATE:20230128
DTSTART;VALUE=DATE:20230128
DTSTAMP:20260424T161917Z
LOCATION:Médiathèque Louis Aragon
DESCRIPTION:<strong>Des remèdes à la mélancolie à l'embellie</strong> La journ
SUMMARY:Rencontre avec Eva Bester
URL;VALUE=URI:https://www.rosnysousbois.fr/evenements/rencontre-avec-eva-bester/
TRANSP:OPAQUE
BEGIN:VALARM
ACTION:DISPLAY
DESCRIPTION:Reminder for Rencontre avec Eva Bester
END:VALARM
END:VEVENT
END:VCALENDAR
