BEGIN:VCALENDAR
VERSION:2.0
PRODID:-//Rosny-sous-Bois
 //NONSGML Events //EN
CALSCALE:GREGORIAN
X-WR-CALNAME:Rosny-sous-Bois
BEGIN:VEVENT
UID:29992044
DTEND;VALUE=DATE:20231129
DTSTART;VALUE=DATE:20231129
DTSTAMP:20260423T152301Z
LOCATION:Théâtre et cinéma Georges Simenon
DESCRIPTION:<strong>D’Ann Sirot, Raphaël Balboni</strong> <strong>Belgique / 20
SUMMARY:Le syndrome des amours passées | 19 h 30
URL;VALUE=URI:https://www.rosnysousbois.fr/evenements/le-syndrome-des-amours-passees-19-h-30/
TRANSP:OPAQUE
BEGIN:VALARM
ACTION:DISPLAY
DESCRIPTION:Reminder for Le syndrome des amours passées | 19 h 30
END:VALARM
END:VEVENT
END:VCALENDAR
