BEGIN:VCALENDAR
VERSION:2.0
PRODID:-//Rosny-sous-Bois
 //NONSGML Events //EN
CALSCALE:GREGORIAN
X-WR-CALNAME:Rosny-sous-Bois
BEGIN:VEVENT
UID:29995776
DTEND;VALUE=DATE:20240605
DTSTART;VALUE=DATE:20240605
DTSTAMP:20260422T214253Z
LOCATION:Fabrique Artistique et Numérique
DESCRIPTION:Réalisez une borne d'arcade de A à Z pour que les usagers puissent s
SUMMARY:Atelier créatif | Conception d&rsquo\;une borne d&rsquo\;arcade
URL;VALUE=URI:https://www.rosnysousbois.fr/evenements/atelier-creatif-conception-dune-borne-darcade-5-6-24/
TRANSP:OPAQUE
BEGIN:VALARM
ACTION:DISPLAY
DESCRIPTION:Reminder for Atelier créatif | Conception d&rsquo\;une borne d&rsquo\;arcade
END:VALARM
END:VEVENT
END:VCALENDAR
