BEGIN:VCALENDAR
VERSION:2.0
PRODID:-//Rosny-sous-Bois
 //NONSGML Events //EN
CALSCALE:GREGORIAN
X-WR-CALNAME:Rosny-sous-Bois
BEGIN:VEVENT
UID:29995818
DTEND;VALUE=DATE:20240621
DTSTART;VALUE=DATE:20240621
DTSTAMP:20260421T101909Z
LOCATION:Théâtre et cinéma Georges Simenon
DESCRIPTION:Les élèves du conservatoire vous convient à fêter la musique. Rejo
SUMMARY:Musique sur le parvis
URL;VALUE=URI:https://www.rosnysousbois.fr/evenements/le-conservatoire-a-simenon-session-2-copy/
TRANSP:OPAQUE
BEGIN:VALARM
ACTION:DISPLAY
DESCRIPTION:Reminder for Musique sur le parvis
END:VALARM
END:VEVENT
END:VCALENDAR
