BEGIN:VCALENDAR
VERSION:2.0
PRODID:-//Rosny-sous-Bois
 //NONSGML Events //EN
CALSCALE:GREGORIAN
X-WR-CALNAME:Rosny-sous-Bois
BEGIN:VEVENT
UID:29996292
DTEND;VALUE=DATE:20240524
DTSTART;VALUE=DATE:20240524
DTSTAMP:20260423T095841Z
LOCATION:Ancien cimetière
DESCRIPTION:À l'occasion du Printemps des cimetières 2024, partez à la découve
SUMMARY:Ils et elles ont marqué l&rsquo\;histoire de la ville | Printemps des cimetières 2024
URL;VALUE=URI:https://www.rosnysousbois.fr/evenements/ils-et-elles-ont-marque-lhistoire-de-la-ville-printemps-des-cimetieres-2024/
TRANSP:OPAQUE
BEGIN:VALARM
ACTION:DISPLAY
DESCRIPTION:Reminder for Ils et elles ont marqué l&rsquo\;histoire de la ville | Printemps des cimetières 2024
END:VALARM
END:VEVENT
END:VCALENDAR
