BEGIN:VCALENDAR
VERSION:2.0
PRODID:-//Rosny-sous-Bois
 //NONSGML Events //EN
CALSCALE:GREGORIAN
X-WR-CALNAME:Rosny-sous-Bois
BEGIN:VEVENT
UID:29997119
DTEND;VALUE=DATE:20250321
DTSTART;VALUE=DATE:20250321
DTSTAMP:20260420T050242Z
LOCATION:Théâtre et cinéma Georges Simenon
DESCRIPTION:<strong>Par l'association Nuit de la Magie </strong> Rejoignez-nous p
SUMMARY:ROSNYLLUSION | Magie (21 mars)
URL;VALUE=URI:https://www.rosnysousbois.fr/evenements/rosnyllusion-2/
TRANSP:OPAQUE
BEGIN:VALARM
ACTION:DISPLAY
DESCRIPTION:Reminder for ROSNYLLUSION | Magie (21 mars)
END:VALARM
END:VEVENT
END:VCALENDAR
