BEGIN:VCALENDAR
VERSION:2.0
PRODID:-//Rosny-sous-Bois
 //NONSGML Events //EN
CALSCALE:GREGORIAN
X-WR-CALNAME:Rosny-sous-Bois
BEGIN:VEVENT
UID:29997129
DTEND;VALUE=DATE:20250330
DTSTART;VALUE=DATE:20250330
DTSTAMP:20260421T044709Z
LOCATION:Théâtre et cinéma Georges Simenon
DESCRIPTION:<strong>Par Serena Fisseau et David Gubitsch </strong> Des filles gé
SUMMARY:Graines de Géantes | Ciné-concert
URL;VALUE=URI:https://www.rosnysousbois.fr/evenements/graines-de-geantes/
TRANSP:OPAQUE
BEGIN:VALARM
ACTION:DISPLAY
DESCRIPTION:Reminder for Graines de Géantes | Ciné-concert
END:VALARM
END:VEVENT
END:VCALENDAR
