BEGIN:VCALENDAR
VERSION:2.0
PRODID:-//Rosny-sous-Bois
 //NONSGML Events //EN
CALSCALE:GREGORIAN
X-WR-CALNAME:Rosny-sous-Bois
BEGIN:VEVENT
UID:29999050
DTEND;VALUE=DATE:20241124
DTSTART;VALUE=DATE:20241124
DTSTAMP:20260423T094652Z
LOCATION:Théâtre et cinéma Georges Simenon
DESCRIPTION:<strong>De Gilles Lellouche</strong> <strong>France / 2024 / 2h41</str
SUMMARY:L’Amour ouf | 14 h 15
URL;VALUE=URI:https://www.rosnysousbois.fr/evenements/lamour-ouf-14-h-15/
TRANSP:OPAQUE
BEGIN:VALARM
ACTION:DISPLAY
DESCRIPTION:Reminder for L’Amour ouf | 14 h 15
END:VALARM
END:VEVENT
END:VCALENDAR
