BEGIN:VCALENDAR
VERSION:2.0
PRODID:-//Rosny-sous-Bois
 //NONSGML Events //EN
CALSCALE:GREGORIAN
X-WR-CALNAME:Rosny-sous-Bois
BEGIN:VEVENT
UID:30000858
DTEND;VALUE=DATE:20250220
DTSTART;VALUE=DATE:20250220
DTSTAMP:20260420T142344Z
LOCATION:Théâtre et cinéma Georges Simenon
DESCRIPTION:<strong>De Houda Benyamina</strong> <strong>France / 2025 / 1h36</stro
SUMMARY:Toutes pour unes | 16 h 30
URL;VALUE=URI:https://www.rosnysousbois.fr/evenements/toutes-pour-unes-16-h-30/
TRANSP:OPAQUE
BEGIN:VALARM
ACTION:DISPLAY
DESCRIPTION:Reminder for Toutes pour unes | 16 h 30
END:VALARM
END:VEVENT
END:VCALENDAR
