BEGIN:VCALENDAR
VERSION:2.0
PRODID:-//Rosny-sous-Bois
 //NONSGML Events //EN
CALSCALE:GREGORIAN
X-WR-CALNAME:Rosny-sous-Bois
BEGIN:VEVENT
UID:30002962
DTEND;VALUE=DATE:20250611
DTSTART;VALUE=DATE:20250611
DTSTAMP:20260423T102234Z
LOCATION:Fabrique Artistique et Numérique
DESCRIPTION:<strong>Avec l'artiste Sacha Sakharov.</strong> <span style="font-size
SUMMARY:Atelier créatif | Électro-menuiserie
URL;VALUE=URI:https://www.rosnysousbois.fr/evenements/atelier-creatif-electro-menuiserie-8/
TRANSP:OPAQUE
BEGIN:VALARM
ACTION:DISPLAY
DESCRIPTION:Reminder for Atelier créatif | Électro-menuiserie
END:VALARM
END:VEVENT
END:VCALENDAR
