BEGIN:VCALENDAR
VERSION:2.0
PRODID:-//Rosny-sous-Bois
 //NONSGML Events //EN
CALSCALE:GREGORIAN
X-WR-CALNAME:Rosny-sous-Bois
BEGIN:VEVENT
UID:30003080
DTEND;VALUE=DATE:20260515
DTSTART;VALUE=DATE:20260515
DTSTAMP:20260423T170242Z
LOCATION:Fabrique Artistique et Numérique
DESCRIPTION:Création d'un diaporama, montage photo et vidéo, conception d'un blo
SUMMARY:Atelier informatique | Multimédia
URL;VALUE=URI:https://www.rosnysousbois.fr/evenements/atelier-informatique-multimedia-3/
TRANSP:OPAQUE
BEGIN:VALARM
ACTION:DISPLAY
DESCRIPTION:Reminder for Atelier informatique | Multimédia
END:VALARM
END:VEVENT
END:VCALENDAR
