BEGIN:VCALENDAR
VERSION:2.0
PRODID:-//Rosny-sous-Bois
 //NONSGML Events //EN
CALSCALE:GREGORIAN
X-WR-CALNAME:Rosny-sous-Bois
BEGIN:VEVENT
UID:30004565
DTEND;VALUE=DATE:20250924
DTSTART;VALUE=DATE:20250924
DTSTAMP:20260420T142559Z
LOCATION:Cercle J
DESCRIPTION:La Structure Information Jeunesse vous accompagne au Forum SOS Rentré
SUMMARY:Forum SOS rentrée | Cercle J
URL;VALUE=URI:https://www.rosnysousbois.fr/evenements/forum-sos-rentree-cercle-j/
TRANSP:OPAQUE
BEGIN:VALARM
ACTION:DISPLAY
DESCRIPTION:Reminder for Forum SOS rentrée | Cercle J
END:VALARM
END:VEVENT
END:VCALENDAR
