BEGIN:VCALENDAR
VERSION:2.0
PRODID:-//Rosny-sous-Bois
 //NONSGML Events //EN
CALSCALE:GREGORIAN
X-WR-CALNAME:Rosny-sous-Bois
BEGIN:VEVENT
UID:30005250
DTEND;VALUE=DATE:20251009
DTSTART;VALUE=DATE:20251009
DTSTAMP:20260423T095003Z
LOCATION:
DESCRIPTION:De nombreux postes sont à pourvoir. <em>Job dating porté par la miss
SUMMARY:Job dating à Westfield Rosny 2
URL;VALUE=URI:https://www.rosnysousbois.fr/evenements/job-dating-a-westfield-rosny-2/
TRANSP:OPAQUE
BEGIN:VALARM
ACTION:DISPLAY
DESCRIPTION:Reminder for Job dating à Westfield Rosny 2
END:VALARM
END:VEVENT
END:VCALENDAR
