BEGIN:VCALENDAR
VERSION:2.0
PRODID:-//Rosny-sous-Bois
 //NONSGML Events //EN
CALSCALE:GREGORIAN
X-WR-CALNAME:Rosny-sous-Bois
BEGIN:VEVENT
UID:30006739
DTEND;VALUE=DATE:20260506
DTSTART;VALUE=DATE:20260506
DTSTAMP:20260423T113813Z
LOCATION:Fabrique Artistique et Numérique
DESCRIPTION:Que vous soyez étudiant, salarié, indépendant, agent de la Ville de
SUMMARY:Art&rsquo\;péro
URL;VALUE=URI:https://www.rosnysousbois.fr/evenements/artpero-6-05/
TRANSP:OPAQUE
BEGIN:VALARM
ACTION:DISPLAY
DESCRIPTION:Reminder for Art&rsquo\;péro
END:VALARM
END:VEVENT
END:VCALENDAR
