BEGIN:VCALENDAR
VERSION:2.0
PRODID:-//Rosny-sous-Bois
 //NONSGML Events //EN
CALSCALE:GREGORIAN
X-WR-CALNAME:Rosny-sous-Bois
BEGIN:VEVENT
UID:30007584
DTEND;VALUE=DATE:20260503
DTSTART;VALUE=DATE:20260503
DTSTAMP:20260424T025615Z
LOCATION:Théâtre et cinéma Georges Simenon
DESCRIPTION:<strong>De Maryam Touzani</strong> <strong>France, Espagne, Maroc / 20
SUMMARY:Rue Malaga | 15 h 40
URL;VALUE=URI:https://www.rosnysousbois.fr/evenements/rue-malaga-15-h-40/
TRANSP:OPAQUE
BEGIN:VALARM
ACTION:DISPLAY
DESCRIPTION:Reminder for Rue Malaga | 15 h 40
END:VALARM
END:VEVENT
END:VCALENDAR
