BEGIN:VCALENDAR
VERSION:2.0
PRODID:-//Rosny-sous-Bois
 //NONSGML Events //EN
CALSCALE:GREGORIAN
X-WR-CALNAME:Rosny-sous-Bois
BEGIN:VEVENT
UID:30007588
DTEND;VALUE=DATE:20260503
DTSTART;VALUE=DATE:20260503
DTSTAMP:20260423T112507Z
LOCATION:Théâtre et cinéma Georges Simenon
DESCRIPTION:<strong>De Cherien Dabis</strong> <strong>Allemagne, Chypre, Palestine
SUMMARY:Ce qu&rsquo\;il reste de nous | 17 h 50
URL;VALUE=URI:https://www.rosnysousbois.fr/evenements/ce-quil-reste-de-nous-17-h-50/
TRANSP:OPAQUE
BEGIN:VALARM
ACTION:DISPLAY
DESCRIPTION:Reminder for Ce qu&rsquo\;il reste de nous | 17 h 50
END:VALARM
END:VEVENT
END:VCALENDAR
