BEGIN:VCALENDAR
VERSION:2.0
PRODID:-//Rosny-sous-Bois
 //NONSGML Events //EN
CALSCALE:GREGORIAN
X-WR-CALNAME:Rosny-sous-Bois
BEGIN:VEVENT
UID:30007592
DTEND;VALUE=DATE:20260506
DTSTART;VALUE=DATE:20260506
DTSTAMP:20260423T112323Z
LOCATION:Théâtre et cinéma Georges Simenon
DESCRIPTION:<strong>De Yann Samuell</strong> <strong>France / 2026 / 1 h 53</stron
SUMMARY:Ciné thé : Compostelle | 16 h 30
URL;VALUE=URI:https://www.rosnysousbois.fr/evenements/cine-the-compostelle-16-h-30/
TRANSP:OPAQUE
BEGIN:VALARM
ACTION:DISPLAY
DESCRIPTION:Reminder for Ciné thé : Compostelle | 16 h 30
END:VALARM
END:VEVENT
END:VCALENDAR
