BEGIN:VCALENDAR
VERSION:2.0
PRODID:-//Rosny-sous-Bois
 //NONSGML Events //EN
CALSCALE:GREGORIAN
X-WR-CALNAME:Rosny-sous-Bois
BEGIN:VEVENT
UID:30007596
DTEND;VALUE=DATE:20260510
DTSTART;VALUE=DATE:20260510
DTSTAMP:20260423T112047Z
LOCATION:Théâtre et cinéma Georges Simenon
DESCRIPTION:<strong>De Yann Samuell</strong> <strong>France / 2026 / 1 h 53</stron
SUMMARY:Compostelle | 14 h 15
URL;VALUE=URI:https://www.rosnysousbois.fr/evenements/compostelle-14-h-15/
TRANSP:OPAQUE
BEGIN:VALARM
ACTION:DISPLAY
DESCRIPTION:Reminder for Compostelle | 14 h 15
END:VALARM
END:VEVENT
END:VCALENDAR
