BEGIN:VCALENDAR
VERSION:2.0
PRODID:-//Rosny-sous-Bois
 //NONSGML Events //EN
CALSCALE:GREGORIAN
X-WR-CALNAME:Rosny-sous-Bois
BEGIN:VEVENT
UID:30007602
DTEND;VALUE=DATE:20260506
DTSTART;VALUE=DATE:20260506
DTSTAMP:20260423T111121Z
LOCATION:Théâtre et cinéma Georges Simenon
DESCRIPTION:<strong>De Kirk Jones (II)</strong> <strong>Royaume-Uni / 2026 / 2 h 0
SUMMARY:Plus fort que moi  | 19 h
URL;VALUE=URI:https://www.rosnysousbois.fr/evenements/plus-fort-que-moi-19-h/
TRANSP:OPAQUE
BEGIN:VALARM
ACTION:DISPLAY
DESCRIPTION:Reminder for Plus fort que moi  | 19 h
END:VALARM
END:VEVENT
END:VCALENDAR
