BEGIN:VCALENDAR
VERSION:2.0
PRODID:-//Rosny-sous-Bois
 //NONSGML Events //EN
CALSCALE:GREGORIAN
X-WR-CALNAME:Rosny-sous-Bois
BEGIN:VEVENT
UID:30007606
DTEND;VALUE=DATE:20260510
DTSTART;VALUE=DATE:20260510
DTSTAMP:20260423T111806Z
LOCATION:Théâtre et cinéma Georges Simenon
DESCRIPTION:<strong>De Kirk Jones (II)</strong> <strong>Royaume-Uni / 2026 / 2 h 0
SUMMARY:Plus fort que moi  | 18 h 10
URL;VALUE=URI:https://www.rosnysousbois.fr/evenements/plus-fort-que-moi-18-h-10/
TRANSP:OPAQUE
BEGIN:VALARM
ACTION:DISPLAY
DESCRIPTION:Reminder for Plus fort que moi  | 18 h 10
END:VALARM
END:VEVENT
END:VCALENDAR
