BEGIN:VCALENDAR
VERSION:2.0
PRODID:-//Rosny-sous-Bois
 //NONSGML Events //EN
CALSCALE:GREGORIAN
X-WR-CALNAME:Rosny-sous-Bois
BEGIN:VEVENT
UID:30007610
DTEND;VALUE=DATE:20260513
DTSTART;VALUE=DATE:20260513
DTSTAMP:20260423T112047Z
LOCATION:Théâtre et cinéma Georges Simenon
DESCRIPTION:<strong>D’Olivier Nakache, Eric Toledano</strong> <strong>France / 2
SUMMARY:Juste une illusion | 16 h 30
URL;VALUE=URI:https://www.rosnysousbois.fr/evenements/juste-une-illusion-16-h-30/
TRANSP:OPAQUE
BEGIN:VALARM
ACTION:DISPLAY
DESCRIPTION:Reminder for Juste une illusion | 16 h 30
END:VALARM
END:VEVENT
END:VCALENDAR
