BEGIN:VCALENDAR
VERSION:2.0
PRODID:-//Rosny-sous-Bois
 //NONSGML Events //EN
CALSCALE:GREGORIAN
X-WR-CALNAME:Rosny-sous-Bois
BEGIN:VEVENT
UID:30007617
DTEND;VALUE=DATE:20260513
DTSTART;VALUE=DATE:20260513
DTSTAMP:20260424T231711Z
LOCATION:Théâtre et cinéma Georges Simenon
DESCRIPTION:<strong>De Gus Van Sant</strong> <strong>États-Unis / 2026 / 1 h 44 /
SUMMARY:La Corde au cou | 19 h
URL;VALUE=URI:https://www.rosnysousbois.fr/evenements/la-corde-au-cou-19-h/
TRANSP:OPAQUE
BEGIN:VALARM
ACTION:DISPLAY
DESCRIPTION:Reminder for La Corde au cou | 19 h
END:VALARM
END:VEVENT
END:VCALENDAR
