BEGIN:VCALENDAR
VERSION:2.0
PRODID:-//Rosny-sous-Bois
 //NONSGML Events //EN
CALSCALE:GREGORIAN
X-WR-CALNAME:Rosny-sous-Bois
BEGIN:VEVENT
UID:30007621
DTEND;VALUE=DATE:20260517
DTSTART;VALUE=DATE:20260517
DTSTAMP:20260425T004529Z
LOCATION:Théâtre et cinéma Georges Simenon
DESCRIPTION:<strong>De Gus Van Sant</strong> <strong>États-Unis / 2026 / 1 h 44 /
SUMMARY:La Corde au cou | 18 h 20
URL;VALUE=URI:https://www.rosnysousbois.fr/evenements/la-corde-au-cou-18-h-20/
TRANSP:OPAQUE
BEGIN:VALARM
ACTION:DISPLAY
DESCRIPTION:Reminder for La Corde au cou | 18 h 20
END:VALARM
END:VEVENT
END:VCALENDAR
