BEGIN:VCALENDAR
VERSION:2.0
PRODID:-//Rosny-sous-Bois
 //NONSGML Events //EN
CALSCALE:GREGORIAN
X-WR-CALNAME:Rosny-sous-Bois
BEGIN:VEVENT
UID:30007653
DTEND;VALUE=DATE:20260503
DTSTART;VALUE=DATE:20260503
DTSTAMP:20260423T111514Z
LOCATION:Théâtre et cinéma Georges Simenon
DESCRIPTION:<strong>De Marjolijn Prins</strong> <strong>Belgique, France, Pays-Bas
SUMMARY:Ciné yoga : Fantastique | 14 h 15
URL;VALUE=URI:https://www.rosnysousbois.fr/evenements/cine-yoga-fantastique-14-h-15/
TRANSP:OPAQUE
BEGIN:VALARM
ACTION:DISPLAY
DESCRIPTION:Reminder for Ciné yoga : Fantastique | 14 h 15
END:VALARM
END:VEVENT
END:VCALENDAR
