BEGIN:VCALENDAR
VERSION:2.0
PRODID:-//Rosny-sous-Bois
 //NONSGML Events //EN
CALSCALE:GREGORIAN
X-WR-CALNAME:Rosny-sous-Bois
BEGIN:VEVENT
UID:30007657
DTEND;VALUE=DATE:20260506
DTSTART;VALUE=DATE:20260506
DTSTAMP:20260423T112303Z
LOCATION:Théâtre et cinéma Georges Simenon
DESCRIPTION:<strong>D’Aaron Horvath &amp; Michael Jelenic</strong> <strong>État
SUMMARY:Super Mario Galaxy Le Film | 14 h 30
URL;VALUE=URI:https://www.rosnysousbois.fr/evenements/super-mario-galaxy-le-film-14-h-30/
TRANSP:OPAQUE
BEGIN:VALARM
ACTION:DISPLAY
DESCRIPTION:Reminder for Super Mario Galaxy Le Film | 14 h 30
END:VALARM
END:VEVENT
END:VCALENDAR
