BEGIN:VCALENDAR
VERSION:2.0
PRODID:-//Rosny-sous-Bois
 //NONSGML Events //EN
CALSCALE:GREGORIAN
X-WR-CALNAME:Rosny-sous-Bois
BEGIN:VEVENT
UID:30007660
DTEND;VALUE=DATE:20260510
DTSTART;VALUE=DATE:20260510
DTSTAMP:20260423T111625Z
LOCATION:Théâtre et cinéma Georges Simenon
DESCRIPTION:<strong>D’Aaron Horvath &amp; Michael Jelenic</strong> <strong>État
SUMMARY:Super Mario Galaxy Le Film | 16 h 20
URL;VALUE=URI:https://www.rosnysousbois.fr/evenements/super-mario-galaxy-le-film-16-h-20/
TRANSP:OPAQUE
BEGIN:VALARM
ACTION:DISPLAY
DESCRIPTION:Reminder for Super Mario Galaxy Le Film | 16 h 20
END:VALARM
END:VEVENT
END:VCALENDAR
