BEGIN:VCALENDAR
VERSION:2.0
PRODID:-//Rosny-sous-Bois
 //NONSGML Events //EN
CALSCALE:GREGORIAN
X-WR-CALNAME:Rosny-sous-Bois
BEGIN:VEVENT
UID:30007664
DTEND;VALUE=DATE:20260513
DTSTART;VALUE=DATE:20260513
DTSTAMP:20260424T231929Z
LOCATION:Théâtre et cinéma Georges Simenon
DESCRIPTION:<strong>De Zdeněk Miler</strong> <strong>République-Tchèque / 2010 
SUMMARY:Ciné atelier : Le Criquet | 15 h
URL;VALUE=URI:https://www.rosnysousbois.fr/evenements/cine-atelier-le-criquet-15-h/
TRANSP:OPAQUE
BEGIN:VALARM
ACTION:DISPLAY
DESCRIPTION:Reminder for Ciné atelier : Le Criquet | 15 h
END:VALARM
END:VEVENT
END:VCALENDAR
