BEGIN:VCALENDAR
VERSION:2.0
PRODID:-//Rosny-sous-Bois
 //NONSGML Events //EN
CALSCALE:GREGORIAN
X-WR-CALNAME:Rosny-sous-Bois
BEGIN:VEVENT
UID:30007790
DTEND;VALUE=DATE:20260523
DTSTART;VALUE=DATE:20260523
DTSTAMP:20260425T014046Z
LOCATION:Fabrique Artistique et Numérique
DESCRIPTION:Contribuez à la protection des papillons en fabriquant un gîte pour 
SUMMARY:Atelier Créatif  | Abri à papillons
URL;VALUE=URI:https://www.rosnysousbois.fr/evenements/atelier-creatif-abri-a-papillons-3/
TRANSP:OPAQUE
BEGIN:VALARM
ACTION:DISPLAY
DESCRIPTION:Reminder for Atelier Créatif  | Abri à papillons
END:VALARM
END:VEVENT
END:VCALENDAR
