BEGIN:VCALENDAR
VERSION:2.0
PRODID:-//Rosny-sous-Bois
 //NONSGML Events //EN
CALSCALE:GREGORIAN
X-WR-CALNAME:Rosny-sous-Bois
BEGIN:VEVENT
UID:30007792
DTEND;VALUE=DATE:20260530
DTSTART;VALUE=DATE:20260530
DTSTAMP:20260425T014338Z
LOCATION:Fabrique Artistique et Numérique
DESCRIPTION:Contribuez à la protection des papillons en fabriquant un gîte pour 
SUMMARY:Atelier Créatif  | Abri à papillons
URL;VALUE=URI:https://www.rosnysousbois.fr/evenements/atelier-creatif-abri-a-papillons-3-copy/
TRANSP:OPAQUE
BEGIN:VALARM
ACTION:DISPLAY
DESCRIPTION:Reminder for Atelier Créatif  | Abri à papillons
END:VALARM
END:VEVENT
END:VCALENDAR
