BEGIN:VCALENDAR
VERSION:2.0
PRODID:-//Rosny-sous-Bois
 //NONSGML Events //EN
CALSCALE:GREGORIAN
X-WR-CALNAME:Rosny-sous-Bois
BEGIN:VEVENT
UID:30007804
DTEND;VALUE=DATE:20260527
DTSTART;VALUE=DATE:20260527
DTSTAMP:20260425T013656Z
LOCATION:Fabrique Artistique et Numérique
DESCRIPTION:Ouvert aux amateurs comme aux joueurs confirmés, ce moment se voulant
SUMMARY:Tournoi Super Smash Bros
URL;VALUE=URI:https://www.rosnysousbois.fr/evenements/tournoi-super-smash-bros/
TRANSP:OPAQUE
BEGIN:VALARM
ACTION:DISPLAY
DESCRIPTION:Reminder for Tournoi Super Smash Bros
END:VALARM
END:VEVENT
END:VCALENDAR
